BEGIN:VCALENDAR
VERSION:2.0
PRODID:icalendar-ruby
CALSCALE:GREGORIAN
BEGIN:VEVENT
DTSTAMP:20260423T000838Z
UID:8ef947303a5e6e3d80f1f470a155a63e
DTSTART;VALUE=DATE:20250101
DTEND;VALUE=DATE:20250102
DESCRIPTION:Tipo: National\nCentro cerrado: Sí
SUMMARY:🇪🇸 Año Nuevo
TRANSP:TRANSPARENT
END:VEVENT
BEGIN:VEVENT
DTSTAMP:20260423T000838Z
UID:b78bc23a7e2c010a2a7190c4fdc16721
DTSTART;VALUE=DATE:20250106
DTEND;VALUE=DATE:20250107
DESCRIPTION:Tipo: National\nCentro cerrado: Sí
SUMMARY:🇪🇸 Epifanía del Señor
TRANSP:TRANSPARENT
END:VEVENT
BEGIN:VEVENT
DTSTAMP:20260423T000838Z
UID:37a6f44f2167d6097e833897b91db34a
DTSTART;VALUE=DATE:20250418
DTEND;VALUE=DATE:20250419
DESCRIPTION:Tipo: National\nCentro cerrado: Sí
SUMMARY:🇪🇸 Viernes Santo
TRANSP:TRANSPARENT
END:VEVENT
BEGIN:VEVENT
DTSTAMP:20260423T000838Z
UID:a45b73ef5e7b3a3f97a3dded560ce28f
DTSTART;VALUE=DATE:20250501
DTEND;VALUE=DATE:20250502
DESCRIPTION:Tipo: National\nCentro cerrado: Sí
SUMMARY:🇪🇸 Día del Trabajador
TRANSP:TRANSPARENT
END:VEVENT
BEGIN:VEVENT
DTSTAMP:20260423T000838Z
UID:f0dbc76d04cd68e3c8b2e9e9eb1b1311
DTSTART;VALUE=DATE:20250815
DTEND;VALUE=DATE:20250816
DESCRIPTION:Tipo: National\nCentro cerrado: Sí
SUMMARY:🇪🇸 Asunción de la Virgen
TRANSP:TRANSPARENT
END:VEVENT
BEGIN:VEVENT
DTSTAMP:20260423T000838Z
UID:22452a43609521342dfd98d777d11cd5
DTSTART;VALUE=DATE:20251012
DTEND;VALUE=DATE:20251013
DESCRIPTION:Tipo: National\nCentro cerrado: Sí
SUMMARY:🇪🇸 Fiesta Nacional de España
TRANSP:TRANSPARENT
END:VEVENT
BEGIN:VEVENT
DTSTAMP:20260423T000838Z
UID:1f8567f18aee8f338a03a116aa669120
DTSTART;VALUE=DATE:20251101
DTEND;VALUE=DATE:20251102
DESCRIPTION:Tipo: National\nCentro cerrado: Sí
SUMMARY:🇪🇸 Todos los Santos
TRANSP:TRANSPARENT
END:VEVENT
BEGIN:VEVENT
DTSTAMP:20260423T000838Z
UID:fc4c1ae1744e9315e8645a33e07d1de7
DTSTART;VALUE=DATE:20251206
DTEND;VALUE=DATE:20251207
DESCRIPTION:Tipo: National\nCentro cerrado: Sí
SUMMARY:🇪🇸 Día de la Constitución
TRANSP:TRANSPARENT
END:VEVENT
BEGIN:VEVENT
DTSTAMP:20260423T000838Z
UID:a1903d730d8e5011913db9dfc5a1d304
DTSTART;VALUE=DATE:20251208
DTEND;VALUE=DATE:20251209
DESCRIPTION:Tipo: National\nCentro cerrado: Sí
SUMMARY:🇪🇸 Inmaculada Concepción
TRANSP:TRANSPARENT
END:VEVENT
BEGIN:VEVENT
DTSTAMP:20260423T000838Z
UID:dfa47deacfde06e6338941d81c7c6f4f
DTSTART;VALUE=DATE:20251225
DTEND;VALUE=DATE:20251226
DESCRIPTION:Tipo: National\nCentro cerrado: Sí
SUMMARY:🇪🇸 Navidad
TRANSP:TRANSPARENT
END:VEVENT
BEGIN:VEVENT
DTSTAMP:20260423T000838Z
UID:a698d9b35f781395f74cb4722792aa32
DTSTART;VALUE=DATE:20250421
DTEND;VALUE=DATE:20250422
DESCRIPTION:Tipo: Regional\nCentro cerrado: Sí
SUMMARY:🏛️ Dilluns de Pasqua
TRANSP:TRANSPARENT
END:VEVENT
BEGIN:VEVENT
DTSTAMP:20260423T000838Z
UID:db755d9c0c55f9c6acf992f544d5befb
DTSTART;VALUE=DATE:20250624
DTEND;VALUE=DATE:20250625
DESCRIPTION:Tipo: Regional\nCentro cerrado: Sí
SUMMARY:🏛️ Sant Joan
TRANSP:TRANSPARENT
END:VEVENT
BEGIN:VEVENT
DTSTAMP:20260423T000838Z
UID:cbbeeae048c4ca534b0ed664c93afe7c
DTSTART;VALUE=DATE:20250911
DTEND;VALUE=DATE:20250912
DESCRIPTION:Tipo: Regional\nCentro cerrado: Sí
SUMMARY:🏛️ Diada de Catalunya
TRANSP:TRANSPARENT
END:VEVENT
BEGIN:VEVENT
DTSTAMP:20260423T000838Z
UID:2b2321b6767e90c796d2fc3caf9d52c0
DTSTART;VALUE=DATE:20251226
DTEND;VALUE=DATE:20251227
DESCRIPTION:Tipo: Regional\nCentro cerrado: Sí
SUMMARY:🏛️ Sant Esteve
TRANSP:TRANSPARENT
END:VEVENT
BEGIN:VEVENT
DTSTAMP:20260423T000838Z
UID:4759777c524ccc22243d6ed7343612be
DTSTART;VALUE=DATE:20250609
DTEND;VALUE=DATE:20250610
DESCRIPTION:Tipo: Local\nCentro cerrado: Sí
SUMMARY:🏙️ Pasqua Granada
TRANSP:TRANSPARENT
END:VEVENT
BEGIN:VEVENT
DTSTAMP:20260423T000838Z
UID:ab80553ece1971d0fe436c23344695cf
DTSTART;VALUE=DATE:20250924
DTEND;VALUE=DATE:20250925
DESCRIPTION:Tipo: Local\nCentro cerrado: Sí
SUMMARY:🏙️ La Mercè
TRANSP:TRANSPARENT
END:VEVENT
BEGIN:VEVENT
DTSTAMP:20260423T000838Z
UID:a238268997892b5431c07830474265ee
DTSTART;TZID=Europe/Madrid:20250908T130000
DTEND;TZID=Europe/Madrid:20250908T140000
DESCRIPTION:Mongeta verda amb patata\nHamburguesa mixta amb enciam\nFruita 
 fresca
SUMMARY:Menú Basal - Mongeta verda amb patata\, Hamburguesa mixta amb enci
 am\, Fruita fresca
END:VEVENT
BEGIN:VEVENT
DTSTAMP:20260423T000838Z
UID:d121ed1a1b8c7b6eaf20dcb9b714023a
DTSTART;TZID=Europe/Madrid:20250909T130000
DTEND;TZID=Europe/Madrid:20250909T140000
DESCRIPTION:Amanida de llenties\nTruita de patata amb ceba amb tomàquet am
 anit\nFruita fresca
SUMMARY:Menú Basal - Amanida de llenties\, Truita de patata amb ceba amb t
 omàquet amanit\, Fruita fresca
END:VEVENT
BEGIN:VEVENT
DTSTAMP:20260423T000838Z
UID:636702a75002ceabc2635a64d40a1d74
DTSTART;TZID=Europe/Madrid:20250910T130000
DTEND;TZID=Europe/Madrid:20250910T140000
DESCRIPTION:Macarrons a la napolitana\nPalets de lluç amb enciam\nLogurt n
 atural ensucrat
SUMMARY:Menú Basal - Macarrons a la napolitana\, Palets de lluç amb encia
 m\, Logurt natural ensucrat
END:VEVENT
BEGIN:VEVENT
DTSTAMP:20260423T000838Z
UID:31c8b9e045c6133cbb9149730cea86fd
DTSTART;TZID=Europe/Madrid:20250912T130000
DTEND;TZID=Europe/Madrid:20250912T140000
DESCRIPTION:Amanida d'arròs\nFilet de lluç amb salsa verda\nFruita fresca
SUMMARY:Menú Basal - Amanida d'arròs\, Filet de lluç amb salsa verda\, F
 ruita fresca
END:VEVENT
BEGIN:VEVENT
DTSTAMP:20260423T000838Z
UID:9d2fb2a1649faf947194796b709a0c70
DTSTART;TZID=Europe/Madrid:20250915T130000
DTEND;TZID=Europe/Madrid:20250915T140000
DESCRIPTION:Crema de carbassa\nRodó de gall d'indi amb salsa de verdures\n
 Fruita fresca
SUMMARY:Menú Basal - Crema de carbassa\, Rodó de gall d'indi amb salsa de
  verdures\, Fruita fresca
END:VEVENT
BEGIN:VEVENT
DTSTAMP:20260423T000838Z
UID:87889d45bbb8b4ccdebd0d96805f6e1d
DTSTART;TZID=Europe/Madrid:20250916T130000
DTEND;TZID=Europe/Madrid:20250916T140000
DESCRIPTION:Arròs amb tomàquet\nFilet de lluç al forn amb enciam i blat 
 de moro\nFruita fresca
SUMMARY:Menú Basal - Arròs amb tomàquet\, Filet de lluç al forn amb enc
 iam i blat de moro\, Fruita fresca
END:VEVENT
BEGIN:VEVENT
DTSTAMP:20260423T000838Z
UID:a94206a925ea9ef07857629b69825e52
DTSTART;TZID=Europe/Madrid:20250917T130000
DTEND;TZID=Europe/Madrid:20250917T140000
DESCRIPTION:Sopa d'au amb lletres\nSalsitxes al forn amb patates fregides\n
 Logurt natural ensucrat
SUMMARY:Menú Basal - Sopa d'au amb lletres\, Salsitxes al forn amb patates
  fregides\, Logurt natural ensucrat
END:VEVENT
BEGIN:VEVENT
DTSTAMP:20260423T000838Z
UID:f75ccd9b62d919d8c37f25a7c4d8b83f
DTSTART;TZID=Europe/Madrid:20250918T130000
DTEND;TZID=Europe/Madrid:20250918T140000
DESCRIPTION:Cigrons estofats\nTruita a la francesa amb enciam\nFruita fresc
 a
SUMMARY:Menú Basal - Cigrons estofats\, Truita a la francesa amb enciam\, 
 Fruita fresca
END:VEVENT
BEGIN:VEVENT
DTSTAMP:20260423T000838Z
UID:9cb4ceef416b92e98eb34b5e824c9f59
DTSTART;TZID=Europe/Madrid:20250919T130000
DTEND;TZID=Europe/Madrid:20250919T140000
DESCRIPTION:Coliflor amb patata i picadet de pernil\nCalamars a la romana /
 / croquetes de bacallà amb enciam\nFruita fresca
SUMMARY:Menú Basal - Coliflor amb patata i picadet de pernil\, Calamars a 
 la romana // croquetes de bacallà amb enciam\, Fruita fresca
END:VEVENT
BEGIN:VEVENT
DTSTAMP:20260423T000838Z
UID:56dc24d9b3a2a7b7d8d4e8bfd4d96890
DTSTART;TZID=Europe/Madrid:20250922T130000
DTEND;TZID=Europe/Madrid:20250922T140000
DESCRIPTION:Macarrons a la napolitana\nFilet de lluç al forn amb enciam\nF
 ruita fresca
SUMMARY:Menú Basal - Macarrons a la napolitana\, Filet de lluç al forn am
 b enciam\, Fruita fresca
END:VEVENT
BEGIN:VEVENT
DTSTAMP:20260423T000838Z
UID:ecfa28f2b29c13df35ee1c85c4d78a08
DTSTART;TZID=Europe/Madrid:20250923T130000
DTEND;TZID=Europe/Madrid:20250923T140000
DESCRIPTION:Bròquil amb patata\nMandonguilles a la jardinera\nFruita fresc
 a
SUMMARY:Menú Basal - Bròquil amb patata\, Mandonguilles a la jardinera\, 
 Fruita fresca
END:VEVENT
BEGIN:VEVENT
DTSTAMP:20260423T000838Z
UID:1331f933fa7401ef20bb79b061e92f62
DTSTART;TZID=Europe/Madrid:20250925T130000
DTEND;TZID=Europe/Madrid:20250925T140000
DESCRIPTION:Amanida russa\nTruita a la francesa amb enciam\nFruita fresca
SUMMARY:Menú Basal - Amanida russa\, Truita a la francesa amb enciam\, Fru
 ita fresca
END:VEVENT
BEGIN:VEVENT
DTSTAMP:20260423T000838Z
UID:474f345be1b9144a89aeafa63df025d4
DTSTART;TZID=Europe/Madrid:20250926T130000
DTEND;TZID=Europe/Madrid:20250926T140000
DESCRIPTION:Arròs tres delícies\nPollastre al forn amb samfaina\nFruita f
 resca
SUMMARY:Menú Basal - Arròs tres delícies\, Pollastre al forn amb samfain
 a\, Fruita fresca
END:VEVENT
BEGIN:VEVENT
DTSTAMP:20260423T000838Z
UID:7e53585a5e744983f0973029d31deff1
DTSTART;TZID=Europe/Madrid:20250929T130000
DTEND;TZID=Europe/Madrid:20250929T140000
DESCRIPTION:Crema de verdures\nMandonguilles a la jardinera\nFruita fresca
SUMMARY:Menú Basal - Crema de verdures\, Mandonguilles a la jardinera\, Fr
 uita fresca
END:VEVENT
BEGIN:VEVENT
DTSTAMP:20260423T000838Z
UID:9a28b11c94e4f1095fd755efba079c42
DTSTART;TZID=Europe/Madrid:20250930T130000
DTEND;TZID=Europe/Madrid:20250930T140000
DESCRIPTION:Amanida d'arròs\nFilet de lluç amb salsa verda\nFruita fresca
SUMMARY:Menú Basal - Amanida d'arròs\, Filet de lluç amb salsa verda\, F
 ruita fresca
END:VEVENT
BEGIN:VEVENT
DTSTAMP:20260423T000838Z
UID:75ce6d35467364dc6a52e9d3c99e22bd
DTSTART;TZID=Europe/Madrid:20251001T130000
DTEND;TZID=Europe/Madrid:20251001T140000
DESCRIPTION:Mongeta tendra i patata\nRodó de llom amb salsa de verdures\nL
 ogurt natural ensucrat
SUMMARY:Menú Basal - Mongeta tendra i patata\, Rodó de llom amb salsa de 
 verdures\, Logurt natural ensucrat
END:VEVENT
BEGIN:VEVENT
DTSTAMP:20260423T000838Z
UID:6207e05c685331760e06184051e2b907
DTSTART;TZID=Europe/Madrid:20251002T130000
DTEND;TZID=Europe/Madrid:20251002T140000
DESCRIPTION:Estofat de mongeta blanca\nHamburguesa mixta amb xampinyons\nFr
 uita fresca
SUMMARY:Menú Basal - Estofat de mongeta blanca\, Hamburguesa mixta amb xam
 pinyons\, Fruita fresca
END:VEVENT
BEGIN:VEVENT
DTSTAMP:20260423T000838Z
UID:77d31a640683ca7bd70a1a2bff248096
DTSTART;TZID=Europe/Madrid:20251003T130000
DTEND;TZID=Europe/Madrid:20251003T140000
DESCRIPTION:Paella de peix\nTruita de carbassó amb amanida\nFruita fresca
SUMMARY:Menú Basal - Paella de peix\, Truita de carbassó amb amanida\, Fr
 uita fresca
END:VEVENT
BEGIN:VEVENT
DTSTAMP:20260423T000838Z
UID:44c2ec117744a9ae0066e2b0aff58eed
DTSTART;TZID=Europe/Madrid:20251006T130000
DTEND;TZID=Europe/Madrid:20251006T140000
DESCRIPTION:Bròquil amb patata\nBotifarra amb amanida\nFruita fresca
SUMMARY:Menú Basal - Bròquil amb patata\, Botifarra amb amanida\, Fruita 
 fresca
END:VEVENT
BEGIN:VEVENT
DTSTAMP:20260423T000838Z
UID:d88674322ed68a8510ecba96fb010a44
DTSTART;TZID=Europe/Madrid:20251007T130000
DTEND;TZID=Europe/Madrid:20251007T140000
DESCRIPTION:Amanida de pasta\nLluç amb salsa marinera\nFruita fresca
SUMMARY:Menú Basal - Amanida de pasta\, Lluç amb salsa marinera\, Fruita 
 fresca
END:VEVENT
BEGIN:VEVENT
DTSTAMP:20260423T000838Z
UID:4e94571f40f480395ff9361855974662
DTSTART;TZID=Europe/Madrid:20251008T130000
DTEND;TZID=Europe/Madrid:20251008T140000
DESCRIPTION:Llentíes estofades\nTruita de patata i carbassó amb tomàquet
 \nLogurt natural ensucrat
SUMMARY:Menú Basal - Llentíes estofades\, Truita de patata i carbassó am
 b tomàquet\, Logurt natural ensucrat
END:VEVENT
BEGIN:VEVENT
DTSTAMP:20260423T000838Z
UID:3d03f71094b78cb12eca1890d8d868a3
DTSTART;TZID=Europe/Madrid:20251009T130000
DTEND;TZID=Europe/Madrid:20251009T140000
DESCRIPTION:Sopa d'au amb lletres\nRodó de gall d'indi amb verdures\nFruit
 a fresca
SUMMARY:Menú Basal - Sopa d'au amb lletres\, Rodó de gall d'indi amb verd
 ures\, Fruita fresca
END:VEVENT
BEGIN:VEVENT
DTSTAMP:20260423T000838Z
UID:b25657b7a9886b8fbc64269421f4c0eb
DTSTART;TZID=Europe/Madrid:20251013T130000
DTEND;TZID=Europe/Madrid:20251013T140000
DESCRIPTION:Mongeta verda amb patata\nHamburguesa mixta amb enciam\nFruita 
 fresca
SUMMARY:Menú Basal - Mongeta verda amb patata\, Hamburguesa mixta amb enci
 am\, Fruita fresca
END:VEVENT
BEGIN:VEVENT
DTSTAMP:20260423T000838Z
UID:2e7706a3c223f647a03c0e1d5e765758
DTSTART;TZID=Europe/Madrid:20251014T130000
DTEND;TZID=Europe/Madrid:20251014T140000
DESCRIPTION:Amanida de llenties\nTruita de patata amb ceba amb tomàquet am
 anit\nFruita fresca
SUMMARY:Menú Basal - Amanida de llenties\, Truita de patata amb ceba amb t
 omàquet amanit\, Fruita fresca
END:VEVENT
BEGIN:VEVENT
DTSTAMP:20260423T000838Z
UID:66e608290e707219ab3d972445083a28
DTSTART;TZID=Europe/Madrid:20251015T130000
DTEND;TZID=Europe/Madrid:20251015T140000
DESCRIPTION:Macarrons a la napolitana\nPalets de lluç amb enciam\nLogurt n
 atural ensucrat
SUMMARY:Menú Basal - Macarrons a la napolitana\, Palets de lluç amb encia
 m\, Logurt natural ensucrat
END:VEVENT
BEGIN:VEVENT
DTSTAMP:20260423T000838Z
UID:e10b2d8f4278aaab3e3f9e8b3ff9a5bd
DTSTART;TZID=Europe/Madrid:20251016T130000
DTEND;TZID=Europe/Madrid:20251016T140000
DESCRIPTION:Crema de carbassó\nPollastre amb salsa de xampinyons\nFruita f
 resca
SUMMARY:Menú Basal - Crema de carbassó\, Pollastre amb salsa de xampinyon
 s\, Fruita fresca
END:VEVENT
BEGIN:VEVENT
DTSTAMP:20260423T000838Z
UID:a7a3556c5b30fc6d23e531086c4d4d70
DTSTART;TZID=Europe/Madrid:20251017T130000
DTEND;TZID=Europe/Madrid:20251017T140000
DESCRIPTION:Amanida d'arròs\nFilet de lluç amb salsa verda\nFruita fresca
SUMMARY:Menú Basal - Amanida d'arròs\, Filet de lluç amb salsa verda\, F
 ruita fresca
END:VEVENT
BEGIN:VEVENT
DTSTAMP:20260423T000838Z
UID:3947cbc654b6665fc048f5e30b80ca94
DTSTART;TZID=Europe/Madrid:20251020T130000
DTEND;TZID=Europe/Madrid:20251020T140000
DESCRIPTION:Crema de carbassa\nRodó de gall d'indi amb salsa de verdures\n
 Fruita fresca
SUMMARY:Menú Basal - Crema de carbassa\, Rodó de gall d'indi amb salsa de
  verdures\, Fruita fresca
END:VEVENT
BEGIN:VEVENT
DTSTAMP:20260423T000838Z
UID:d52b08203435a179d0264aa34b9d2500
DTSTART;TZID=Europe/Madrid:20251021T130000
DTEND;TZID=Europe/Madrid:20251021T140000
DESCRIPTION:Arròs amb tomàquet\nFilet de lluç al forn amb enciam i blat 
 de moro\nFruita fresca
SUMMARY:Menú Basal - Arròs amb tomàquet\, Filet de lluç al forn amb enc
 iam i blat de moro\, Fruita fresca
END:VEVENT
BEGIN:VEVENT
DTSTAMP:20260423T000838Z
UID:d924ff33eb4d8f47f2deb671327b4055
DTSTART;TZID=Europe/Madrid:20251022T130000
DTEND;TZID=Europe/Madrid:20251022T140000
DESCRIPTION:Sopa d'au amb lletres\nSalsitxes al forn amb patates fregides\n
 Logurt natural ensucrat
SUMMARY:Menú Basal - Sopa d'au amb lletres\, Salsitxes al forn amb patates
  fregides\, Logurt natural ensucrat
END:VEVENT
BEGIN:VEVENT
DTSTAMP:20260423T000838Z
UID:8f019b761d17b8c4da14f60dfb4fc77b
DTSTART;TZID=Europe/Madrid:20251023T130000
DTEND;TZID=Europe/Madrid:20251023T140000
DESCRIPTION:Cigrons estofats\nTruita a la francesa amb enciam\nFruita fresc
 a
SUMMARY:Menú Basal - Cigrons estofats\, Truita a la francesa amb enciam\, 
 Fruita fresca
END:VEVENT
BEGIN:VEVENT
DTSTAMP:20260423T000838Z
UID:c28553fafa5b4987f7b77c834238c065
DTSTART;TZID=Europe/Madrid:20251024T130000
DTEND;TZID=Europe/Madrid:20251024T140000
DESCRIPTION:Coliflor amb patata i picadet de pernil\nCalamars a la romana /
 / croquetes de bacallà amb enciam\nFruita fresca
SUMMARY:Menú Basal - Coliflor amb patata i picadet de pernil\, Calamars a 
 la romana // croquetes de bacallà amb enciam\, Fruita fresca
END:VEVENT
BEGIN:VEVENT
DTSTAMP:20260423T000838Z
UID:516d960f0a418193409877f33b3a105e
DTSTART;TZID=Europe/Madrid:20251027T130000
DTEND;TZID=Europe/Madrid:20251027T140000
DESCRIPTION:Macarrons a la napolitana\nFilet de lluç al forn amb enciam\nF
 ruita fresca
SUMMARY:Menú Basal - Macarrons a la napolitana\, Filet de lluç al forn am
 b enciam\, Fruita fresca
END:VEVENT
BEGIN:VEVENT
DTSTAMP:20260423T000838Z
UID:3e6e4c3939dbd883bd2cd7387cc04cf1
DTSTART;TZID=Europe/Madrid:20251028T130000
DTEND;TZID=Europe/Madrid:20251028T140000
DESCRIPTION:Bròquil amb patata\nMandonguilles a la jardinera\nFruita fresc
 a
SUMMARY:Menú Basal - Bròquil amb patata\, Mandonguilles a la jardinera\, 
 Fruita fresca
END:VEVENT
BEGIN:VEVENT
DTSTAMP:20260423T000838Z
UID:78b8cd4308fa702fd7dc211b33f2afa1
DTSTART;TZID=Europe/Madrid:20251029T130000
DTEND;TZID=Europe/Madrid:20251029T140000
DESCRIPTION:Cigrons amb verdures\nCroquetes d'espinacs\nLogurt natural ensu
 crat
SUMMARY:Menú Basal - Cigrons amb verdures\, Croquetes d'espinacs\, Logurt 
 natural ensucrat
END:VEVENT
BEGIN:VEVENT
DTSTAMP:20260423T000838Z
UID:e4cd723e53062481a21ae0afafd2dc02
DTSTART;TZID=Europe/Madrid:20251030T130000
DTEND;TZID=Europe/Madrid:20251030T140000
DESCRIPTION:Amanida russa\nTruita a la francesa amb enciam\nFruita fresca
SUMMARY:Menú Basal - Amanida russa\, Truita a la francesa amb enciam\, Fru
 ita fresca
END:VEVENT
BEGIN:VEVENT
DTSTAMP:20260423T000838Z
UID:afda5a212aeba3bd55a44b83c3a7f127
DTSTART;TZID=Europe/Madrid:20251031T130000
DTEND;TZID=Europe/Madrid:20251031T140000
DESCRIPTION:Arròs tres delícies\nPollastre al forn amb samfaina\nFruita f
 resca
SUMMARY:Menú Basal - Arròs tres delícies\, Pollastre al forn amb samfain
 a\, Fruita fresca
END:VEVENT
BEGIN:VEVENT
DTSTAMP:20260423T000838Z
UID:79a99b344075eb73983c3c605b5ee232
DTSTART;TZID=Europe/Madrid:20251104T130000
DTEND;TZID=Europe/Madrid:20251104T140000
DESCRIPTION:Amanida d'arròs\nFilet de lluç amb salsa verda\nFruita fresca
SUMMARY:Menú Basal - Amanida d'arròs\, Filet de lluç amb salsa verda\, F
 ruita fresca
END:VEVENT
BEGIN:VEVENT
DTSTAMP:20260423T000838Z
UID:b501d1071febc92a4cd0606a8f94711e
DTSTART;TZID=Europe/Madrid:20251105T130000
DTEND;TZID=Europe/Madrid:20251105T140000
DESCRIPTION:Mongeta tendra i patata\nRodó de llom amb salsa de verdures\nL
 ogurt natural ensucrat
SUMMARY:Menú Basal - Mongeta tendra i patata\, Rodó de llom amb salsa de 
 verdures\, Logurt natural ensucrat
END:VEVENT
BEGIN:VEVENT
DTSTAMP:20260423T000838Z
UID:9b288eae508bc7cec36c7792e787c050
DTSTART;TZID=Europe/Madrid:20251106T130000
DTEND;TZID=Europe/Madrid:20251106T140000
DESCRIPTION:Estofat de mongeta blanca\nHamburguesa mixta amb xampinyons\nFr
 uita fresca
SUMMARY:Menú Basal - Estofat de mongeta blanca\, Hamburguesa mixta amb xam
 pinyons\, Fruita fresca
END:VEVENT
BEGIN:VEVENT
DTSTAMP:20260423T000838Z
UID:854f95cb9b04730bcbe48e1b501be35c
DTSTART;TZID=Europe/Madrid:20251107T130000
DTEND;TZID=Europe/Madrid:20251107T140000
DESCRIPTION:Paella de peix\nTruita de carbassó amb amanida\nFruita fresca
SUMMARY:Menú Basal - Paella de peix\, Truita de carbassó amb amanida\, Fr
 uita fresca
END:VEVENT
BEGIN:VEVENT
DTSTAMP:20260423T000838Z
UID:21e0324abd133f950da1a4bc306b7267
DTSTART;TZID=Europe/Madrid:20251110T130000
DTEND;TZID=Europe/Madrid:20251110T140000
DESCRIPTION:Bròquil amb patata\nBotifarra amb amanida\nFruita fresca
SUMMARY:Menú Basal - Bròquil amb patata\, Botifarra amb amanida\, Fruita 
 fresca
END:VEVENT
BEGIN:VEVENT
DTSTAMP:20260423T000838Z
UID:b0edbecf30eb33a582b6cab2bddd9441
DTSTART;TZID=Europe/Madrid:20251111T130000
DTEND;TZID=Europe/Madrid:20251111T140000
DESCRIPTION:Amanida de pasta\nLluç amb salsa marinera\nFruita fresca
SUMMARY:Menú Basal - Amanida de pasta\, Lluç amb salsa marinera\, Fruita 
 fresca
END:VEVENT
BEGIN:VEVENT
DTSTAMP:20260423T000838Z
UID:5c5cea86869e3b07e21bd05a606c52b8
DTSTART;TZID=Europe/Madrid:20251112T130000
DTEND;TZID=Europe/Madrid:20251112T140000
DESCRIPTION:Llentíes estofades\nTruita de patata i carbassó amb tomàquet
 \nLogurt natural ensucrat
SUMMARY:Menú Basal - Llentíes estofades\, Truita de patata i carbassó am
 b tomàquet\, Logurt natural ensucrat
END:VEVENT
BEGIN:VEVENT
DTSTAMP:20260423T000838Z
UID:dbc97f1b083f17ff4c4254e08cca236f
DTSTART;TZID=Europe/Madrid:20251113T130000
DTEND;TZID=Europe/Madrid:20251113T140000
DESCRIPTION:Sopa d'au amb lletres\nRodó de gall d'indi amb verdures\nFruit
 a fresca
SUMMARY:Menú Basal - Sopa d'au amb lletres\, Rodó de gall d'indi amb verd
 ures\, Fruita fresca
END:VEVENT
BEGIN:VEVENT
DTSTAMP:20260423T000838Z
UID:b046cf6ae50350a902c319fe4d21ffe6
DTSTART;TZID=Europe/Madrid:20251114T130000
DTEND;TZID=Europe/Madrid:20251114T140000
DESCRIPTION:Amanida russa\nCroquetes de carn d'olla amb enciam\nGelat
SUMMARY:Menú Basal - Amanida russa\, Croquetes de carn d'olla amb enciam\,
  Gelat
END:VEVENT
END:VCALENDAR
