BEGIN:VCALENDAR
VERSION:2.0
PRODID:icalendar-ruby
CALSCALE:GREGORIAN
BEGIN:VEVENT
DTSTAMP:20260423T001108Z
UID:32e386fdd75607c44add5031a46e4655
DTSTART;VALUE=DATE:20260101
DTEND;VALUE=DATE:20260102
DESCRIPTION:Tipo: National\nCentro cerrado: Sí
SUMMARY:🇪🇸 Any nou
TRANSP:TRANSPARENT
END:VEVENT
BEGIN:VEVENT
DTSTAMP:20260423T001108Z
UID:a800437f4c6d449421a0945fc7c5499d
DTSTART;VALUE=DATE:20260106
DTEND;VALUE=DATE:20260107
DESCRIPTION:Tipo: National\nCentro cerrado: Sí
SUMMARY:🇪🇸 Dia de Reis
TRANSP:TRANSPARENT
END:VEVENT
BEGIN:VEVENT
DTSTAMP:20260423T001108Z
UID:144ef497497f14cf5736566476a1ebfa
DTSTART;VALUE=DATE:20260216
DTEND;VALUE=DATE:20260217
DESCRIPTION:Tipo: School\nCentro cerrado: Sí
SUMMARY:🏫 Dia de lliure disposició (Carnaval)
TRANSP:TRANSPARENT
END:VEVENT
BEGIN:VEVENT
DTSTAMP:20260423T001108Z
UID:8e9e95716626d69ffbef894398da86a9
DTSTART;VALUE=DATE:20260430
DTEND;VALUE=DATE:20260501
DESCRIPTION:Tipo: School\nCentro cerrado: Sí
SUMMARY:🏫 Dia de lliure disposició
TRANSP:TRANSPARENT
END:VEVENT
BEGIN:VEVENT
DTSTAMP:20260423T001108Z
UID:1035ef798c1ee192b9c10e6e0ae29163
DTSTART;VALUE=DATE:20260403
DTEND;VALUE=DATE:20260404
DESCRIPTION:Tipo: National\nCentro cerrado: Sí
SUMMARY:🇪🇸 Viernes Santo
TRANSP:TRANSPARENT
END:VEVENT
BEGIN:VEVENT
DTSTAMP:20260423T001108Z
UID:b618d9a5ad28b68be1c54f474ea2277f
DTSTART;VALUE=DATE:20260406
DTEND;VALUE=DATE:20260407
DESCRIPTION:Tipo: Regional\nCentro cerrado: Sí
SUMMARY:🏛️ Dilluns de Pasqua
TRANSP:TRANSPARENT
END:VEVENT
BEGIN:VEVENT
DTSTAMP:20260423T001108Z
UID:cd836be4ae8a718c525967a533fe2c85
DTSTART;VALUE=DATE:20260501
DTEND;VALUE=DATE:20260502
DESCRIPTION:Tipo: National\nCentro cerrado: Sí
SUMMARY:🇪🇸 Día del Trabajador
TRANSP:TRANSPARENT
END:VEVENT
BEGIN:VEVENT
DTSTAMP:20260423T001108Z
UID:e1921e0090099950dec54eba0ec0627b
DTSTART;VALUE=DATE:20260511
DTEND;VALUE=DATE:20260512
DESCRIPTION:Tipo: Local\nCentro cerrado: Sí
SUMMARY:🏙️ Aplec de La Salut
TRANSP:TRANSPARENT
END:VEVENT
BEGIN:VEVENT
DTSTAMP:20260423T001108Z
UID:8f3b0fbc7ebb3b41afb3fdebfd47b3c3
DTSTART;VALUE=DATE:20260624
DTEND;VALUE=DATE:20260625
DESCRIPTION:Tipo: Regional\nCentro cerrado: Sí
SUMMARY:🏛️ Sant Joan
TRANSP:TRANSPARENT
END:VEVENT
BEGIN:VEVENT
DTSTAMP:20260423T001108Z
UID:dd8163d5b11bbc7b384a54b953e462ba
DTSTART;VALUE=DATE:20260313
DTEND;VALUE=DATE:20260314
DESCRIPTION:Tipo: School\nCentro cerrado: Sí
SUMMARY:🏫 Dia de lliure disposició
TRANSP:TRANSPARENT
END:VEVENT
BEGIN:VEVENT
DTSTAMP:20260423T001108Z
UID:25945957d5851c1f3a8f0d26292f43f2
DTSTART;VALUE=DATE:20260619
DTEND;VALUE=DATE:20260620
DESCRIPTION:Tipo: School\nCentro cerrado: No
SUMMARY:🏫 Últim dia de cole
TRANSP:TRANSPARENT
END:VEVENT
BEGIN:VEVENT
DTSTAMP:20260423T001108Z
UID:a0ebe8b41f7543406c016c725c26c80b
DTSTART;VALUE=DATE:20260330
DTEND;VALUE=DATE:20260331
DESCRIPTION:Tipo: National\nCentro cerrado: Sí
SUMMARY:🇪🇸 Semana Santa
TRANSP:TRANSPARENT
END:VEVENT
BEGIN:VEVENT
DTSTAMP:20260423T001108Z
UID:17073b475016622097349999d8bddfb1
DTSTART;VALUE=DATE:20260401
DTEND;VALUE=DATE:20260402
DESCRIPTION:Tipo: National\nCentro cerrado: Sí
SUMMARY:🇪🇸 Semana Santa
TRANSP:TRANSPARENT
END:VEVENT
BEGIN:VEVENT
DTSTAMP:20260423T001108Z
UID:c67a3217a65c74bf8d823868514ab803
DTSTART;VALUE=DATE:20260402
DTEND;VALUE=DATE:20260403
DESCRIPTION:Tipo: National\nCentro cerrado: Sí
SUMMARY:🇪🇸 Semana Santa
TRANSP:TRANSPARENT
END:VEVENT
BEGIN:VEVENT
DTSTAMP:20260423T001108Z
UID:3e1aece6e2f53c457da8b5dad1c5bee9
DTSTART;VALUE=DATE:20260331
DTEND;VALUE=DATE:20260401
DESCRIPTION:Tipo: National\nCentro cerrado: Sí
SUMMARY:🇪🇸 Semana Santa
TRANSP:TRANSPARENT
END:VEVENT
BEGIN:VEVENT
DTSTAMP:20260423T001108Z
UID:6a41eb4490af183ac11ee6c8f6e6774b
DTSTART;TZID=Europe/Madrid:20260108T130000
DTEND;TZID=Europe/Madrid:20260108T140000
DESCRIPTION:Cigrons estofats\nBacallà al forn amb samfaina\nFruita
SUMMARY:Standard - Cigrons estofats\, Bacallà al forn amb samfaina\, Fruit
 a
END:VEVENT
BEGIN:VEVENT
DTSTAMP:20260423T001108Z
UID:8f08e1c3019fe0fe0239b6ab8cfc73e7
DTSTART;TZID=Europe/Madrid:20260109T130000
DTEND;TZID=Europe/Madrid:20260109T140000
DESCRIPTION:Arròs amb tomàquet\nTruita a la francesa amb amanida\nFruita
SUMMARY:Standard - Arròs amb tomàquet\, Truita a la francesa amb amanida\
 , Fruita
END:VEVENT
BEGIN:VEVENT
DTSTAMP:20260423T001108Z
UID:8b3468ed69be55b8ab83fa1705e56436
DTSTART;TZID=Europe/Madrid:20260112T130000
DTEND;TZID=Europe/Madrid:20260112T140000
DESCRIPTION:Mongeta tendra amb patates\nGall dindi amb salsa de bolets\nFru
 ita
SUMMARY:Standard - Mongeta tendra amb patates\, Gall dindi amb salsa de bol
 ets\, Fruita
END:VEVENT
BEGIN:VEVENT
DTSTAMP:20260423T001108Z
UID:5a8e57280bfc54de9026a3a7a6a733e0
DTSTART;TZID=Europe/Madrid:20260113T130000
DTEND;TZID=Europe/Madrid:20260113T140000
DESCRIPTION:Escudella amb galets\nCues de rap a la planxa amb amanida\nIogu
 rt natural
SUMMARY:Standard - Escudella amb galets\, Cues de rap a la planxa amb amani
 da\, Iogurt natural
END:VEVENT
BEGIN:VEVENT
DTSTAMP:20260423T001108Z
UID:8f7855b408b1f1f62cb7b31bd48f4e10
DTSTART;TZID=Europe/Madrid:20260114T130000
DTEND;TZID=Europe/Madrid:20260114T140000
DESCRIPTION:Macarrons integrals a la bolonyesa\nSalmó a la planxa amb aman
 ida\nFruita
SUMMARY:Standard - Macarrons integrals a la bolonyesa\, Salmó a la planxa 
 amb amanida\, Fruita
END:VEVENT
BEGIN:VEVENT
DTSTAMP:20260423T001108Z
UID:a3250f638ca4f9bf83f89cc0d005bd55
DTSTART;TZID=Europe/Madrid:20260115T130000
DTEND;TZID=Europe/Madrid:20260115T140000
DESCRIPTION:Paella de verdures amb gambes\nCroquetes de pollastre amb amani
 da\nFruita
SUMMARY:Standard - Paella de verdures amb gambes\, Croquetes de pollastre a
 mb amanida\, Fruita
END:VEVENT
BEGIN:VEVENT
DTSTAMP:20260423T001108Z
UID:1513b4351ae3b5cb70bc9b60334289b7
DTSTART;TZID=Europe/Madrid:20260116T130000
DTEND;TZID=Europe/Madrid:20260116T140000
DESCRIPTION:Coliflor amb cigrons\nBistec a la planxa amb amanida\nFruita
SUMMARY:Standard - Coliflor amb cigrons\, Bistec a la planxa amb amanida\, 
 Fruita
END:VEVENT
BEGIN:VEVENT
DTSTAMP:20260423T001108Z
UID:d43a7e17323a2d0c6cdb26131a1fec09
DTSTART;TZID=Europe/Madrid:20260119T130000
DTEND;TZID=Europe/Madrid:20260119T140000
DESCRIPTION:Crema de verdures\nLlom a la planxa amb salsa de bolets\nIogurt
  natural
SUMMARY:Standard - Crema de verdures\, Llom a la planxa amb salsa de bolets
 \, Iogurt natural
END:VEVENT
BEGIN:VEVENT
DTSTAMP:20260423T001108Z
UID:a08e460d1062567a8d98b930384b9a0e
DTSTART;TZID=Europe/Madrid:20260120T130000
DTEND;TZID=Europe/Madrid:20260120T140000
DESCRIPTION:Llaçets de pasta a la napolitana\nBacallà amb verdures\nFruit
 a
SUMMARY:Standard - Llaçets de pasta a la napolitana\, Bacallà amb verdure
 s\, Fruita
END:VEVENT
BEGIN:VEVENT
DTSTAMP:20260423T001108Z
UID:26594bdef8d8549c346a7b3f7d5c2b16
DTSTART;TZID=Europe/Madrid:20260121T130000
DTEND;TZID=Europe/Madrid:20260121T140000
DESCRIPTION:Arròs amb tonyina i maionesa\nMagra estofat amb verdures\nFrui
 ta
SUMMARY:Standard - Arròs amb tonyina i maionesa\, Magra estofat amb verdur
 es\, Fruita
END:VEVENT
BEGIN:VEVENT
DTSTAMP:20260423T001108Z
UID:3376d9803aba2f7805b592a10702dd28
DTSTART;TZID=Europe/Madrid:20260122T130000
DTEND;TZID=Europe/Madrid:20260122T140000
DESCRIPTION:Mongetes de sant pau\nTruita de patates amb amanida\nFruita
SUMMARY:Standard - Mongetes de sant pau\, Truita de patates amb amanida\, F
 ruita
END:VEVENT
BEGIN:VEVENT
DTSTAMP:20260423T001108Z
UID:0a702daf5bca1680b4fed3d597e74495
DTSTART;TZID=Europe/Madrid:20260123T130000
DTEND;TZID=Europe/Madrid:20260123T140000
DESCRIPTION:Bròquil amb patates al vapor\nFilet de gall dindi amb amanida\
 nFruita
SUMMARY:Standard - Bròquil amb patates al vapor\, Filet de gall dindi amb 
 amanida\, Fruita
END:VEVENT
BEGIN:VEVENT
DTSTAMP:20260423T001108Z
UID:7de272b0ec10d7bb9d0b35e4cef2c10b
DTSTART;TZID=Europe/Madrid:20260126T130000
DTEND;TZID=Europe/Madrid:20260126T140000
DESCRIPTION:Sopa de pollastre\nCues de rap a la planxa amb amanida\nFruita
SUMMARY:Standard - Sopa de pollastre\, Cues de rap a la planxa amb amanida\
 , Fruita
END:VEVENT
BEGIN:VEVENT
DTSTAMP:20260423T001108Z
UID:fc3811ca682e2ce7ea5ec83e696ee696
DTSTART;TZID=Europe/Madrid:20260127T130000
DTEND;TZID=Europe/Madrid:20260127T140000
DESCRIPTION:Mongeta tendra amb patates\nFricandó de vedella\nFruita
SUMMARY:Standard - Mongeta tendra amb patates\, Fricandó de vedella\, Frui
 ta
END:VEVENT
BEGIN:VEVENT
DTSTAMP:20260423T001108Z
UID:93d7e5da20739509b7366b13d71cfb7a
DTSTART;TZID=Europe/Madrid:20260128T130000
DTEND;TZID=Europe/Madrid:20260128T140000
DESCRIPTION:Llenties a la cassola\nTruita de carbassó amb amanida\nIogurt 
 natural
SUMMARY:Standard - Llenties a la cassola\, Truita de carbassó amb amanida\
 , Iogurt natural
END:VEVENT
BEGIN:VEVENT
DTSTAMP:20260423T001108Z
UID:51518baa45ecb8a428c06bafbcae2911
DTSTART;TZID=Europe/Madrid:20260129T130000
DTEND;TZID=Europe/Madrid:20260129T140000
DESCRIPTION:Arròs amb pèsols i pastanaga\nPollastre al forn amb poma\nFru
 ita
SUMMARY:Standard - Arròs amb pèsols i pastanaga\, Pollastre al forn amb p
 oma\, Fruita
END:VEVENT
BEGIN:VEVENT
DTSTAMP:20260423T001108Z
UID:8038ffdf1fd45485137319b27b7b1292
DTSTART;TZID=Europe/Madrid:20260130T130000
DTEND;TZID=Europe/Madrid:20260130T140000
DESCRIPTION:Fideuà de carn amb all i oli\nSalmó a la planxa amb verdures\
 nFruita
SUMMARY:Standard - Fideuà de carn amb all i oli\, Salmó a la planxa amb v
 erdures\, Fruita
END:VEVENT
BEGIN:VEVENT
DTSTAMP:20260423T001108Z
UID:78812f3cb17d0f5c2672676b2fb2d9a0
DTSTART;TZID=Europe/Madrid:20260202T130000
DTEND;TZID=Europe/Madrid:20260202T140000
DESCRIPTION:Crema de verdures\nEscalopins de vedella amb salsa de formatge\
 nFruita
SUMMARY:Standard - Crema de verdures\, Escalopins de vedella amb salsa de f
 ormatge\, Fruita
END:VEVENT
BEGIN:VEVENT
DTSTAMP:20260423T001108Z
UID:3cd0cf6e2100016b88eaae5cac731521
DTSTART;TZID=Europe/Madrid:20260203T130000
DTEND;TZID=Europe/Madrid:20260203T140000
DESCRIPTION:Espaguettis a la napolitana\nLluç a la planxa amb amanida\nFru
 ita
SUMMARY:Standard - Espaguettis a la napolitana\, Lluç a la planxa amb aman
 ida\, Fruita
END:VEVENT
BEGIN:VEVENT
DTSTAMP:20260423T001108Z
UID:d11ae4b71963685c7aea74f72c54640f
DTSTART;TZID=Europe/Madrid:20260204T130000
DTEND;TZID=Europe/Madrid:20260204T140000
DESCRIPTION:Sopa de peix\nCuixes de pollastre al forn amb poma\nIogurt natu
 ral
SUMMARY:Standard - Sopa de peix\, Cuixes de pollastre al forn amb poma\, Io
 gurt natural
END:VEVENT
BEGIN:VEVENT
DTSTAMP:20260423T001108Z
UID:772c8d11012288debaad1f3c8b765834
DTSTART;TZID=Europe/Madrid:20260205T130000
DTEND;TZID=Europe/Madrid:20260205T140000
DESCRIPTION:Cigrons estofats\nBacallà al forn amb samfaina\nFruita
SUMMARY:Standard - Cigrons estofats\, Bacallà al forn amb samfaina\, Fruit
 a
END:VEVENT
BEGIN:VEVENT
DTSTAMP:20260423T001108Z
UID:dca175f9684b2465c6427ecc9611fc5b
DTSTART;TZID=Europe/Madrid:20260206T130000
DTEND;TZID=Europe/Madrid:20260206T140000
DESCRIPTION:Arròs amb tomàquet\nTruita a la francesa amb amanida\nFruita
SUMMARY:Standard - Arròs amb tomàquet\, Truita a la francesa amb amanida\
 , Fruita
END:VEVENT
BEGIN:VEVENT
DTSTAMP:20260423T001108Z
UID:2bf41ac77bf231b50c75fafee6057c89
DTSTART;TZID=Europe/Madrid:20260209T130000
DTEND;TZID=Europe/Madrid:20260209T140000
DESCRIPTION:Mongeta tendra amb patates\nGall dindi amb salsa de bolets\nFru
 ita
SUMMARY:Standard - Mongeta tendra amb patates\, Gall dindi amb salsa de bol
 ets\, Fruita
END:VEVENT
BEGIN:VEVENT
DTSTAMP:20260423T001108Z
UID:355477e89b17749bc1e2d86d52e4ae03
DTSTART;TZID=Europe/Madrid:20260210T130000
DTEND;TZID=Europe/Madrid:20260210T140000
DESCRIPTION:Escudella amb galets\nCues de rap a la planxa amb amanida\nIogu
 rt natural
SUMMARY:Standard - Escudella amb galets\, Cues de rap a la planxa amb amani
 da\, Iogurt natural
END:VEVENT
BEGIN:VEVENT
DTSTAMP:20260423T001108Z
UID:bca1829b1d84a008ca387676a1436731
DTSTART;TZID=Europe/Madrid:20260211T130000
DTEND;TZID=Europe/Madrid:20260211T140000
DESCRIPTION:Macarrons integrals a la bolonyesa\nSalmó a la planxa amb aman
 ida\nFruita
SUMMARY:Standard - Macarrons integrals a la bolonyesa\, Salmó a la planxa 
 amb amanida\, Fruita
END:VEVENT
BEGIN:VEVENT
DTSTAMP:20260423T001108Z
UID:b3cb24ae2a458845711a27627c7ad6ce
DTSTART;TZID=Europe/Madrid:20260212T130000
DTEND;TZID=Europe/Madrid:20260212T140000
DESCRIPTION:Paella de verdures amb gambes\nCroquetes de pollastre amb amani
 da\nFruita
SUMMARY:Standard - Paella de verdures amb gambes\, Croquetes de pollastre a
 mb amanida\, Fruita
END:VEVENT
BEGIN:VEVENT
DTSTAMP:20260423T001108Z
UID:9b48fc280970d11876a1251d89b206e9
DTSTART;TZID=Europe/Madrid:20260213T130000
DTEND;TZID=Europe/Madrid:20260213T140000
DESCRIPTION:Coliflor amb cigrons\nBistec a la planxa amb amanida\nFruita
SUMMARY:Standard - Coliflor amb cigrons\, Bistec a la planxa amb amanida\, 
 Fruita
END:VEVENT
BEGIN:VEVENT
DTSTAMP:20260423T001108Z
UID:4e91f32b94da595fcf630594e7045862
DTSTART;TZID=Europe/Madrid:20260217T130000
DTEND;TZID=Europe/Madrid:20260217T140000
DESCRIPTION:Llaçets de pasta a la napolitana\nBacallà amb verdures\nFruit
 a
SUMMARY:Standard - Llaçets de pasta a la napolitana\, Bacallà amb verdure
 s\, Fruita
END:VEVENT
BEGIN:VEVENT
DTSTAMP:20260423T001108Z
UID:625cb5941a9a5019e66ca9d7ee59e43d
DTSTART;TZID=Europe/Madrid:20260218T130000
DTEND;TZID=Europe/Madrid:20260218T140000
DESCRIPTION:Arròs amb tonyina i maionesa\nMagra estofat amb verdures\nFrui
 ta
SUMMARY:Standard - Arròs amb tonyina i maionesa\, Magra estofat amb verdur
 es\, Fruita
END:VEVENT
BEGIN:VEVENT
DTSTAMP:20260423T001108Z
UID:d8e7d4fcf9073765a0c6c665b820c1ab
DTSTART;TZID=Europe/Madrid:20260219T130000
DTEND;TZID=Europe/Madrid:20260219T140000
DESCRIPTION:Mongetes de sant pau\nTruita de patates amb amanida\nFruita
SUMMARY:Standard - Mongetes de sant pau\, Truita de patates amb amanida\, F
 ruita
END:VEVENT
BEGIN:VEVENT
DTSTAMP:20260423T001108Z
UID:ab9867420abd1d8981ce6b6772b7b1cb
DTSTART;TZID=Europe/Madrid:20260220T130000
DTEND;TZID=Europe/Madrid:20260220T140000
DESCRIPTION:Bròquil amb patates al vapor\nFilet de gall dindi amb amanida\
 nFruita
SUMMARY:Standard - Bròquil amb patates al vapor\, Filet de gall dindi amb 
 amanida\, Fruita
END:VEVENT
BEGIN:VEVENT
DTSTAMP:20260423T001108Z
UID:f41a4385478e522d2c7e1e15bc1f6153
DTSTART;TZID=Europe/Madrid:20260223T130000
DTEND;TZID=Europe/Madrid:20260223T140000
DESCRIPTION:Sopa de pollastre\nCues de rap a la planxa amb amanida\nFruita
SUMMARY:Standard - Sopa de pollastre\, Cues de rap a la planxa amb amanida\
 , Fruita
END:VEVENT
BEGIN:VEVENT
DTSTAMP:20260423T001108Z
UID:87be8cfef9ce0a5878cead95b78beadb
DTSTART;TZID=Europe/Madrid:20260224T130000
DTEND;TZID=Europe/Madrid:20260224T140000
DESCRIPTION:Mongeta tendra amb patates\nFricandó de vedella\nFruita
SUMMARY:Standard - Mongeta tendra amb patates\, Fricandó de vedella\, Frui
 ta
END:VEVENT
BEGIN:VEVENT
DTSTAMP:20260423T001108Z
UID:8a7ed6688bfdcf9fa78e98df1467d548
DTSTART;TZID=Europe/Madrid:20260225T130000
DTEND;TZID=Europe/Madrid:20260225T140000
DESCRIPTION:Llenties a la cassola\nTruita de carbassó amb amanida\nIogurt 
 natural
SUMMARY:Standard - Llenties a la cassola\, Truita de carbassó amb amanida\
 , Iogurt natural
END:VEVENT
BEGIN:VEVENT
DTSTAMP:20260423T001108Z
UID:22c5a058ecf86a3aa797c4b05eaa1962
DTSTART;TZID=Europe/Madrid:20260226T130000
DTEND;TZID=Europe/Madrid:20260226T140000
DESCRIPTION:Arròs amb pèsols i pastanaga\nPollastre al forn amb poma\nFru
 ita
SUMMARY:Standard - Arròs amb pèsols i pastanaga\, Pollastre al forn amb p
 oma\, Fruita
END:VEVENT
BEGIN:VEVENT
DTSTAMP:20260423T001108Z
UID:ae22376bde75abadeabc4e85481a3b52
DTSTART;TZID=Europe/Madrid:20260227T130000
DTEND;TZID=Europe/Madrid:20260227T140000
DESCRIPTION:Fideuà de carn amb all i oli\nSalmó a la planxa amb verdures\
 nFruita
SUMMARY:Standard - Fideuà de carn amb all i oli\, Salmó a la planxa amb v
 erdures\, Fruita
END:VEVENT
BEGIN:VEVENT
DTSTAMP:20260423T001108Z
UID:39aea7362885dd36c9558f31b367be9e
DTSTART;TZID=Europe/Madrid:20260302T130000
DTEND;TZID=Europe/Madrid:20260302T140000
DESCRIPTION:Crema de verdures\nEscalopins de vedella amb salsa de formatge\
 nFruita
SUMMARY:Standard - Crema de verdures\, Escalopins de vedella amb salsa de f
 ormatge\, Fruita
END:VEVENT
BEGIN:VEVENT
DTSTAMP:20260423T001108Z
UID:beec7e63fe152512bbebf3b8dc8f0fd9
DTSTART;TZID=Europe/Madrid:20260303T130000
DTEND;TZID=Europe/Madrid:20260303T140000
DESCRIPTION:Espaguettis a la napolitana\nLluç a la planxa amb amanida\nFru
 ita
SUMMARY:Standard - Espaguettis a la napolitana\, Lluç a la planxa amb aman
 ida\, Fruita
END:VEVENT
BEGIN:VEVENT
DTSTAMP:20260423T001108Z
UID:6b6babb438c436b40f1d4c9d31dd7c25
DTSTART;TZID=Europe/Madrid:20260304T130000
DTEND;TZID=Europe/Madrid:20260304T140000
DESCRIPTION:Sopa de peix\nCuixes de pollastre al forn amb poma\nIogurt natu
 ral
SUMMARY:Standard - Sopa de peix\, Cuixes de pollastre al forn amb poma\, Io
 gurt natural
END:VEVENT
BEGIN:VEVENT
DTSTAMP:20260423T001108Z
UID:93900763d6b02fc509133097151986c9
DTSTART;TZID=Europe/Madrid:20260305T130000
DTEND;TZID=Europe/Madrid:20260305T140000
DESCRIPTION:Cigrons estofats\nBacallà al forn amb samfaina\nFruita
SUMMARY:Standard - Cigrons estofats\, Bacallà al forn amb samfaina\, Fruit
 a
END:VEVENT
BEGIN:VEVENT
DTSTAMP:20260423T001108Z
UID:f0a7388c7de3c8c8aad8b01acbabbc34
DTSTART;TZID=Europe/Madrid:20260306T130000
DTEND;TZID=Europe/Madrid:20260306T140000
DESCRIPTION:Arròs amb tomàquet\nTruita a la francesa amb amanida\nFruita
SUMMARY:Standard - Arròs amb tomàquet\, Truita a la francesa amb amanida\
 , Fruita
END:VEVENT
BEGIN:VEVENT
DTSTAMP:20260423T001108Z
UID:0a7a909185bc40a606f9816c95e3befe
DTSTART;TZID=Europe/Madrid:20260309T130000
DTEND;TZID=Europe/Madrid:20260309T140000
DESCRIPTION:Mongeta tendra amb patates\nGall dindi amb salsa de bolets\nFru
 ita
SUMMARY:Standard - Mongeta tendra amb patates\, Gall dindi amb salsa de bol
 ets\, Fruita
END:VEVENT
BEGIN:VEVENT
DTSTAMP:20260423T001108Z
UID:396c0dfea0f221cca82b47c02e123bd0
DTSTART;TZID=Europe/Madrid:20260310T130000
DTEND;TZID=Europe/Madrid:20260310T140000
DESCRIPTION:Escudella amb galets\nCues de rap a la planxa amb amanida\nIogu
 rt natural
SUMMARY:Standard - Escudella amb galets\, Cues de rap a la planxa amb amani
 da\, Iogurt natural
END:VEVENT
BEGIN:VEVENT
DTSTAMP:20260423T001108Z
UID:8d8f9cd349729e3c332c38e6331eca90
DTSTART;TZID=Europe/Madrid:20260311T130000
DTEND;TZID=Europe/Madrid:20260311T140000
DESCRIPTION:Macarrons integrals a la bolonyesa\nSalmó a la planxa amb aman
 ida\nFruita
SUMMARY:Standard - Macarrons integrals a la bolonyesa\, Salmó a la planxa 
 amb amanida\, Fruita
END:VEVENT
BEGIN:VEVENT
DTSTAMP:20260423T001108Z
UID:a3bee8e2048a94da16376d7bdeda630d
DTSTART;TZID=Europe/Madrid:20260312T130000
DTEND;TZID=Europe/Madrid:20260312T140000
DESCRIPTION:Paella de verdures amb gambes\nCroquetes de pollastre amb amani
 da\nFruita
SUMMARY:Standard - Paella de verdures amb gambes\, Croquetes de pollastre a
 mb amanida\, Fruita
END:VEVENT
BEGIN:VEVENT
DTSTAMP:20260423T001108Z
UID:89d1d74be13c517db31309b0d2e6afc5
DTSTART;TZID=Europe/Madrid:20260316T130000
DTEND;TZID=Europe/Madrid:20260316T140000
DESCRIPTION:Crema de verdures\nLlom a la planxa amb salsa de bolets\nIogurt
  natural
SUMMARY:Standard - Crema de verdures\, Llom a la planxa amb salsa de bolets
 \, Iogurt natural
END:VEVENT
BEGIN:VEVENT
DTSTAMP:20260423T001108Z
UID:3b6beae1d2aba418f81b29a6dab1edf1
DTSTART;TZID=Europe/Madrid:20260317T130000
DTEND;TZID=Europe/Madrid:20260317T140000
DESCRIPTION:Llaçets de pasta a la napolitana\nBacallà amb verdures\nFruit
 a
SUMMARY:Standard - Llaçets de pasta a la napolitana\, Bacallà amb verdure
 s\, Fruita
END:VEVENT
BEGIN:VEVENT
DTSTAMP:20260423T001108Z
UID:b41c837f18a484f3981a4d443a343b77
DTSTART;TZID=Europe/Madrid:20260318T130000
DTEND;TZID=Europe/Madrid:20260318T140000
DESCRIPTION:Arròs amb tonyina i maionesa\nMagra estofat amb verdures\nFrui
 ta
SUMMARY:Standard - Arròs amb tonyina i maionesa\, Magra estofat amb verdur
 es\, Fruita
END:VEVENT
BEGIN:VEVENT
DTSTAMP:20260423T001108Z
UID:24d019e309045853b0c301bf9d0dcf81
DTSTART;TZID=Europe/Madrid:20260319T130000
DTEND;TZID=Europe/Madrid:20260319T140000
DESCRIPTION:Mongetes de sant pau\nTruita de patates amb amanida\nFruita
SUMMARY:Standard - Mongetes de sant pau\, Truita de patates amb amanida\, F
 ruita
END:VEVENT
BEGIN:VEVENT
DTSTAMP:20260423T001108Z
UID:934d6bf624336acb9358667c8149f9c7
DTSTART;TZID=Europe/Madrid:20260320T130000
DTEND;TZID=Europe/Madrid:20260320T140000
DESCRIPTION:Bròquil amb patates al vapor\nFilet de gall dindi amb amanida\
 nFruita
SUMMARY:Standard - Bròquil amb patates al vapor\, Filet de gall dindi amb 
 amanida\, Fruita
END:VEVENT
BEGIN:VEVENT
DTSTAMP:20260423T001108Z
UID:0c9e6e2584ae1541bcfdf2e70c50c0af
DTSTART;TZID=Europe/Madrid:20260323T130000
DTEND;TZID=Europe/Madrid:20260323T140000
DESCRIPTION:Sopa de pollastre\nCues de rap a la planxa amb amanida\nFruita
SUMMARY:Standard - Sopa de pollastre\, Cues de rap a la planxa amb amanida\
 , Fruita
END:VEVENT
BEGIN:VEVENT
DTSTAMP:20260423T001108Z
UID:31acacdae77394e20f3f565001f2b167
DTSTART;TZID=Europe/Madrid:20260324T130000
DTEND;TZID=Europe/Madrid:20260324T140000
DESCRIPTION:Mongeta tendra amb patates\nFricandó de vedella\nFruita
SUMMARY:Standard - Mongeta tendra amb patates\, Fricandó de vedella\, Frui
 ta
END:VEVENT
BEGIN:VEVENT
DTSTAMP:20260423T001108Z
UID:c2b035b4e09c0d8ceab5354b34fb2a5a
DTSTART;TZID=Europe/Madrid:20260325T130000
DTEND;TZID=Europe/Madrid:20260325T140000
DESCRIPTION:Llenties a la cassola\nTruita de carbassó amb amanida\nIogurt 
 natural
SUMMARY:Standard - Llenties a la cassola\, Truita de carbassó amb amanida\
 , Iogurt natural
END:VEVENT
BEGIN:VEVENT
DTSTAMP:20260423T001108Z
UID:7d42160c6debd1d74762981dc2f1a91d
DTSTART;TZID=Europe/Madrid:20260326T130000
DTEND;TZID=Europe/Madrid:20260326T140000
DESCRIPTION:Arròs amb pèsols i pastanaga\nPollastre al forn amb poma\nFru
 ita
SUMMARY:Standard - Arròs amb pèsols i pastanaga\, Pollastre al forn amb p
 oma\, Fruita
END:VEVENT
BEGIN:VEVENT
DTSTAMP:20260423T001108Z
UID:342ed759e21a09f9af76586940de89d6
DTSTART;TZID=Europe/Madrid:20260327T130000
DTEND;TZID=Europe/Madrid:20260327T140000
DESCRIPTION:Fideuà de carn amb all i oli\nSalmó a la planxa amb verdures\
 nFruita
SUMMARY:Standard - Fideuà de carn amb all i oli\, Salmó a la planxa amb v
 erdures\, Fruita
END:VEVENT
END:VCALENDAR
