BEGIN:VCALENDAR
VERSION:2.0
PRODID:icalendar-ruby
CALSCALE:GREGORIAN
BEGIN:VEVENT
DTSTAMP:20260423T000954Z
UID:831d666e5650494db1cc6a8ee4f7d50d
DTSTART;TZID=Europe/Madrid:20260108T130000
DTEND;TZID=Europe/Madrid:20260108T140000
DESCRIPTION:Crema de calabaza\nCanelones de atún [Allergens: gluten\, fish
 \, milk]\nFruta
SUMMARY:BASAL - Crema de calabaza\, Canelones de atún\, Fruta
END:VEVENT
BEGIN:VEVENT
DTSTAMP:20260423T000954Z
UID:a5c088662aa5d19d5d7027c930d0b23e
DTSTART;TZID=Europe/Madrid:20260109T130000
DTEND;TZID=Europe/Madrid:20260109T140000
DESCRIPTION:Guiso de garbanzos\nLomo a la plancha con ensalada\nFruta
SUMMARY:BASAL - Guiso de garbanzos\, Lomo a la plancha con ensalada\, Fruta
END:VEVENT
BEGIN:VEVENT
DTSTAMP:20260423T000954Z
UID:ac1e615daee4cd19c3b2412848acdc12
DTSTART;TZID=Europe/Madrid:20260112T130000
DTEND;TZID=Europe/Madrid:20260112T140000
DESCRIPTION:Lentejas con verduras (vegetarian)\nTortilla de patata con ensa
 lada (vegetarian) [Allergens: eggs]\nFruta
SUMMARY:BASAL - Lentejas con verduras\, Tortilla de patata con ensalada\, F
 ruta
END:VEVENT
BEGIN:VEVENT
DTSTAMP:20260423T000954Z
UID:345d16a7df444ae83b5b675a4c83b3f4
DTSTART;TZID=Europe/Madrid:20260113T130000
DTEND;TZID=Europe/Madrid:20260113T140000
DESCRIPTION:Judías verdes con tomate y patatas (organic)\nPollo asado con 
 ensalada (organic)\nYogur (organic)
SUMMARY:BASAL - Judías verdes con tomate y patatas\, Pollo asado con ensal
 ada\, Yogur
END:VEVENT
BEGIN:VEVENT
DTSTAMP:20260423T000954Z
UID:fca38c847d36a098d586600cd86a250a
DTSTART;TZID=Europe/Madrid:20260114T130000
DTEND;TZID=Europe/Madrid:20260114T140000
DESCRIPTION:Tallarines al pesto [Allergens: gluten]\nBacalao encebollado [A
 llergens: fish]\nFruta
SUMMARY:BASAL - Tallarines al pesto\, Bacalao encebollado\, Fruta
END:VEVENT
BEGIN:VEVENT
DTSTAMP:20260423T000954Z
UID:6dae3964c31868c4b0f9556957e198a6
DTSTART;TZID=Europe/Madrid:20260115T130000
DTEND;TZID=Europe/Madrid:20260115T140000
DESCRIPTION:Sopa de verduras\nAlbóndigas jardinera con patatas dado\nFruta
SUMMARY:BASAL - Sopa de verduras\, Albóndigas jardinera con patatas dado\,
  Fruta
END:VEVENT
BEGIN:VEVENT
DTSTAMP:20260423T000954Z
UID:800d2d020b460aab8972959b96cc02ab
DTSTART;TZID=Europe/Madrid:20260116T130000
DTEND;TZID=Europe/Madrid:20260116T140000
DESCRIPTION:Arroz tres delicias (whole_grain) [Allergens: eggs]\nMerluza a 
 la andaluza con ensalada (whole_grain) [Allergens: gluten\, fish]\nFruta (
 whole_grain)
SUMMARY:BASAL - Arroz tres delicias\, Merluza a la andaluza con ensalada\, 
 Fruta
END:VEVENT
BEGIN:VEVENT
DTSTAMP:20260423T000954Z
UID:aeaa8246df4595bc1fe508a4ad35ab9f
DTSTART;TZID=Europe/Madrid:20260119T130000
DTEND;TZID=Europe/Madrid:20260119T140000
DESCRIPTION:Brócoli a la gallega (vegetarian)\nMacarrones con boloñesa de
  soja (vegetarian) [Allergens: gluten\, soya]\nFruta
SUMMARY:BASAL - Brócoli a la gallega\, Macarrones con boloñesa de soja\, 
 Fruta
END:VEVENT
BEGIN:VEVENT
DTSTAMP:20260423T000954Z
UID:685d64bbc7fb0fc2253c1f02b00fda2c
DTSTART;TZID=Europe/Madrid:20260120T130000
DTEND;TZID=Europe/Madrid:20260120T140000
DESCRIPTION:Sopa de picadillo con huevo y jamón [Allergens: eggs]\nMerluza
  a la gallega con panaderas [Allergens: fish]\nYogur
SUMMARY:BASAL - Sopa de picadillo con huevo y jamón\, Merluza a la gallega
  con panaderas\, Yogur
END:VEVENT
BEGIN:VEVENT
DTSTAMP:20260423T000954Z
UID:47b9a0c7a70f6aa61707c10ede107776
DTSTART;TZID=Europe/Madrid:20260121T130000
DTEND;TZID=Europe/Madrid:20260121T140000
DESCRIPTION:Crema de calabacín con picadillo de huevo (organic) [Allergens
 : eggs]\nRagout de cerdo con couscous (organic) [Allergens: gluten]\nFruta
  (organic)
SUMMARY:BASAL - Crema de calabacín con picadillo de huevo\, Ragout de cerd
 o con couscous\, Fruta
END:VEVENT
BEGIN:VEVENT
DTSTAMP:20260423T000954Z
UID:58d1a9a9803242895f60a596a4ffd7ea
DTSTART;TZID=Europe/Madrid:20260122T130000
DTEND;TZID=Europe/Madrid:20260122T140000
DESCRIPTION:Alubias blancas con verduras\nBuñuelos de bacalao con ensalada
  [Allergens: gluten\, fish]\nFruta
SUMMARY:BASAL - Alubias blancas con verduras\, Buñuelos de bacalao con ens
 alada\, Fruta
END:VEVENT
BEGIN:VEVENT
DTSTAMP:20260423T000954Z
UID:7d66c82028308bcdd09e05503957796c
DTSTART;TZID=Europe/Madrid:20260123T130000
DTEND;TZID=Europe/Madrid:20260123T140000
DESCRIPTION:Arroz pilaf con verduras y pasas\nDurum de pollo [Allergens: gl
 uten]\nFruta
SUMMARY:BASAL - Arroz pilaf con verduras y pasas\, Durum de pollo\, Fruta
END:VEVENT
BEGIN:VEVENT
DTSTAMP:20260423T000954Z
UID:99cc1384401469d14f89d39dc2ab41de
DTSTART;TZID=Europe/Madrid:20260126T130000
DTEND;TZID=Europe/Madrid:20260126T140000
DESCRIPTION:Guiso de lentejas (vegetarian)\nTortilla de patata con ensalada
  (vegetarian) [Allergens: eggs]\nFruta
SUMMARY:BASAL - Guiso de lentejas\, Tortilla de patata con ensalada\, Fruta
END:VEVENT
BEGIN:VEVENT
DTSTAMP:20260423T000954Z
UID:5837ed7516bcf20d4b8e72adfb0bd0ca
DTSTART;TZID=Europe/Madrid:20260127T130000
DTEND;TZID=Europe/Madrid:20260127T140000
DESCRIPTION:Judías salteadas con zanahoria baby\nLomo asado con patatas\nY
 ogur
SUMMARY:BASAL - Judías salteadas con zanahoria baby\, Lomo asado con patat
 as\, Yogur
END:VEVENT
BEGIN:VEVENT
DTSTAMP:20260423T000954Z
UID:78b97dc9558fdd4f6ff7917f7dbeb897
DTSTART;TZID=Europe/Madrid:20260128T130000
DTEND;TZID=Europe/Madrid:20260128T140000
DESCRIPTION:Macarrones a la napolitana (whole_grain) [Allergens: gluten]\nS
 almón a las finas hierbas con ensalada (whole_grain) [Allergens: fish]\nF
 ruta (whole_grain)
SUMMARY:BASAL - Macarrones a la napolitana\, Salmón a las finas hierbas co
 n ensalada\, Fruta
END:VEVENT
BEGIN:VEVENT
DTSTAMP:20260423T000954Z
UID:49cc314804a3d09496d5923e3a865b6c
DTSTART;TZID=Europe/Madrid:20260129T130000
DTEND;TZID=Europe/Madrid:20260129T140000
DESCRIPTION:Crema de verduras\nArroz caldoso de marisco [Allergens: crustac
 ean\, fish\, shellfish]\nFruta
SUMMARY:BASAL - Crema de verduras\, Arroz caldoso de marisco\, Fruta
END:VEVENT
BEGIN:VEVENT
DTSTAMP:20260423T000954Z
UID:cf7d0f6a5369d698fccb5215817d8c03
DTSTART;TZID=Europe/Madrid:20260130T130000
DTEND;TZID=Europe/Madrid:20260130T140000
DESCRIPTION:Garbanzos con verduras\nPollo al ajillo con ensalada\nFruta
SUMMARY:BASAL - Garbanzos con verduras\, Pollo al ajillo con ensalada\, Fru
 ta
END:VEVENT
END:VCALENDAR
