BEGIN:VCALENDAR
VERSION:2.0
PRODID:icalendar-ruby
CALSCALE:GREGORIAN
BEGIN:VEVENT
DTSTAMP:20260423T000832Z
UID:3061182618db095bd6abe7a14905d708
DTSTART;TZID=Europe/Madrid:20260202T130000
DTEND;TZID=Europe/Madrid:20260202T140000
DESCRIPTION:Zucchini cream\nMacaroni with soya bolognesa (MEAT FREE) [Aller
 gens: gluten\, soya]\nYogurt [Allergens: milk]
SUMMARY:Basal - Zucchini cream\, Macaroni with soya bolognesa\, Yogurt
END:VEVENT
BEGIN:VEVENT
DTSTAMP:20260423T000832Z
UID:5f8c3ec1582a37449280d77899fec72e
DTSTART;TZID=Europe/Madrid:20260203T130000
DTEND;TZID=Europe/Madrid:20260203T140000
DESCRIPTION:Green beans sauteed with steamed potatoes\nBreaded pork [Allerg
 ens: gluten]\nFruit
SUMMARY:Basal - Green beans sauteed with steamed potatoes\, Breaded pork\, 
 Fruit
END:VEVENT
BEGIN:VEVENT
DTSTAMP:20260423T000832Z
UID:1d0abe15f981753a0e4ea119b633a786
DTSTART;TZID=Europe/Madrid:20260204T130000
DTEND;TZID=Europe/Madrid:20260204T140000
DESCRIPTION:Three delight rice (CEREAL INTEGRAL) [Allergens: eggs]\nHake wi
 th bilbaina's sauce and salad [Allergens: fish]\nFruit
SUMMARY:Basal - Three delight rice\, Hake with bilbaina's sauce and salad\,
  Fruit
END:VEVENT
BEGIN:VEVENT
DTSTAMP:20260423T000832Z
UID:cb2a3527bc37ff1bd83d0252525c0cc6
DTSTART;TZID=Europe/Madrid:20260205T130000
DTEND;TZID=Europe/Madrid:20260205T140000
DESCRIPTION:Chickpeas stew with vegetables\nRoasted chicken & couscous [All
 ergens: gluten]\nFruit
SUMMARY:Basal - Chickpeas stew with vegetables\, Roasted chicken & couscous
 \, Fruit
END:VEVENT
BEGIN:VEVENT
DTSTAMP:20260423T000832Z
UID:eb79dc55c010c1fef5ca365faefa8fc1
DTSTART;TZID=Europe/Madrid:20260206T130000
DTEND;TZID=Europe/Madrid:20260206T140000
DESCRIPTION:Noodles soup with ham and egg [Allergens: gluten\, eggs]\nBaked
  cod & salad [Allergens: fish]\nFruit
SUMMARY:Basal - Noodles soup with ham and egg\, Baked cod & salad\, Fruit
END:VEVENT
BEGIN:VEVENT
DTSTAMP:20260423T000832Z
UID:48a03095b6fb78842dd5e4caa043c7b1
DTSTART;TZID=Europe/Madrid:20260209T130000
DTEND;TZID=Europe/Madrid:20260209T140000
DESCRIPTION:Lentils stew\nFrench omelette & salad (MEAT FREE) [Allergens: e
 ggs]\nYogurt [Allergens: milk]
SUMMARY:Basal - Lentils stew\, French omelette & salad\, Yogurt
END:VEVENT
BEGIN:VEVENT
DTSTAMP:20260423T000832Z
UID:dcbd14b67163466b7ad9d4ed81a5cd58
DTSTART;TZID=Europe/Madrid:20260210T130000
DTEND;TZID=Europe/Madrid:20260210T140000
DESCRIPTION:Pasta with pesto sauce [Allergens: gluten]\nBaked salmon & sala
 d [Allergens: fish]\nFruit
SUMMARY:Basal - Pasta with pesto sauce\, Baked salmon & salad\, Fruit
END:VEVENT
BEGIN:VEVENT
DTSTAMP:20260423T000832Z
UID:c367367a1f4f016465168ed0c6b28f63
DTSTART;TZID=Europe/Madrid:20260211T130000
DTEND;TZID=Europe/Madrid:20260211T140000
DESCRIPTION:Broccoli with paprika oil\nMeatballs stew (eco)\nFruit
SUMMARY:Basal - Broccoli with paprika oil\, Meatballs stew\, Fruit
END:VEVENT
BEGIN:VEVENT
DTSTAMP:20260423T000832Z
UID:76267dc5228de74b578b7a5e3ecbc82b
DTSTART;TZID=Europe/Madrid:20260212T130000
DTEND;TZID=Europe/Madrid:20260212T140000
DESCRIPTION:Rice with homemade tomato sauce\nFried hake fillet with salad [
 Allergens: gluten\, fish]\nFruit
SUMMARY:Basal - Rice with homemade tomato sauce\, Fried hake fillet with sa
 lad\, Fruit
END:VEVENT
BEGIN:VEVENT
DTSTAMP:20260423T000832Z
UID:c4298f41aa5e5de01ed199aaa1029c87
DTSTART;TZID=Europe/Madrid:20260213T130000
DTEND;TZID=Europe/Madrid:20260213T140000
DESCRIPTION:Vegetables soup\nLemon chicken with baked potatoes\nFruit
SUMMARY:Basal - Vegetables soup\, Lemon chicken with baked potatoes\, Fruit
END:VEVENT
BEGIN:VEVENT
DTSTAMP:20260423T000832Z
UID:8dcd0d2d783aec4b0515658e24c94194
DTSTART;TZID=Europe/Madrid:20260223T130000
DTEND;TZID=Europe/Madrid:20260223T140000
DESCRIPTION:Lentils stew\nPotato omelette & salad (MEAT FREE) [Allergens: e
 ggs]\nYogurt [Allergens: milk]
SUMMARY:Basal - Lentils stew\, Potato omelette & salad\, Yogurt
END:VEVENT
BEGIN:VEVENT
DTSTAMP:20260423T000832Z
UID:7e7675dad7b70bc9abde473b9e166a46
DTSTART;TZID=Europe/Madrid:20260224T130000
DTEND;TZID=Europe/Madrid:20260224T140000
DESCRIPTION:Noodles soup [Allergens: gluten]\nBbq chicken wings & salad\nFr
 uit
SUMMARY:Basal - Noodles soup\, Bbq chicken wings & salad\, Fruit
END:VEVENT
BEGIN:VEVENT
DTSTAMP:20260423T000832Z
UID:9d80b0c9f9befea67e6956fe333a359f
DTSTART;TZID=Europe/Madrid:20260225T130000
DTEND;TZID=Europe/Madrid:20260225T140000
DESCRIPTION:Green beans with tomato sauce\nSeafood fideua [Allergens: glute
 n\, crustacean\, fish\, shellfish]\nFruit
SUMMARY:Basal - Green beans with tomato sauce\, Seafood fideua\, Fruit
END:VEVENT
BEGIN:VEVENT
DTSTAMP:20260423T000832Z
UID:d547c221b1c6ea01148c1017c97f508e
DTSTART;TZID=Europe/Madrid:20260226T130000
DTEND;TZID=Europe/Madrid:20260226T140000
DESCRIPTION:Carrot soup - INTERNATIONAL DAY OF UNITED KINGDOM\nCottage pie 
 [Allergens: milk]\nFruit
SUMMARY:Basal - Carrot soup\, Cottage pie\, Fruit
END:VEVENT
BEGIN:VEVENT
DTSTAMP:20260423T000832Z
UID:1e8d5cc6f26025df829a8cb31fb0656b
DTSTART;TZID=Europe/Madrid:20260227T130000
DTEND;TZID=Europe/Madrid:20260227T140000
DESCRIPTION:Wok rice with vegetables and soya (CEREAL INTEGRAL) [Allergens:
  soya]\nChicken stew with mushrooms\nFruit
SUMMARY:Basal - Wok rice with vegetables and soya\, Chicken stew with mushr
 ooms\, Fruit
END:VEVENT
BEGIN:VEVENT
DTSTAMP:20260423T000832Z
UID:a6208b654e5299c52df1012cc562bc3b
DTSTART;TZID=Europe/Madrid:20260202T130000
DTEND;TZID=Europe/Madrid:20260202T140000
DESCRIPTION:Zucchini cream\nMacaroni with soya bolognesa [Allergens: gluten
 \, soya]\nYogurt [Allergens: milk]
SUMMARY:Vegetarian - Zucchini cream\, Macaroni with soya bolognesa\, Yogurt
END:VEVENT
BEGIN:VEVENT
DTSTAMP:20260423T000832Z
UID:464645f28ade812054eb5f823f3df78c
DTSTART;TZID=Europe/Madrid:20260203T130000
DTEND;TZID=Europe/Madrid:20260203T140000
DESCRIPTION:Green beans sauteed with steamed potatoes\nBreaded vegetable cu
 tlet [Allergens: gluten]\nFruit
SUMMARY:Vegetarian - Green beans sauteed with steamed potatoes\, Breaded ve
 getable cutlet\, Fruit
END:VEVENT
BEGIN:VEVENT
DTSTAMP:20260423T000832Z
UID:2bee6bc414256e61c25b689f9df10a28
DTSTART;TZID=Europe/Madrid:20260204T130000
DTEND;TZID=Europe/Madrid:20260204T140000
DESCRIPTION:Three delight rice [Allergens: eggs]\nTofu with bilbaina's sauc
 e and salad\nFruit
SUMMARY:Vegetarian - Three delight rice\, Tofu with bilbaina's sauce and sa
 lad\, Fruit
END:VEVENT
BEGIN:VEVENT
DTSTAMP:20260423T000832Z
UID:7df0615062f2290e4674c406222d169a
DTSTART;TZID=Europe/Madrid:20260205T130000
DTEND;TZID=Europe/Madrid:20260205T140000
DESCRIPTION:Chickpeas stew with vegetables\nRoasted vegetables & couscous [
 Allergens: gluten]\nFruit
SUMMARY:Vegetarian - Chickpeas stew with vegetables\, Roasted vegetables & 
 couscous\, Fruit
END:VEVENT
BEGIN:VEVENT
DTSTAMP:20260423T000832Z
UID:ce17668b8e4abb33fea09043971e7e8c
DTSTART;TZID=Europe/Madrid:20260206T130000
DTEND;TZID=Europe/Madrid:20260206T140000
DESCRIPTION:Noodles soup with vegetables and egg [Allergens: gluten\, eggs]
 \nBaked vegetable protein & salad\nFruit
SUMMARY:Vegetarian - Noodles soup with vegetables and egg\, Baked vegetable
  protein & salad\, Fruit
END:VEVENT
BEGIN:VEVENT
DTSTAMP:20260423T000832Z
UID:eb4deab3fdc157d98cd9bed402cabd70
DTSTART;TZID=Europe/Madrid:20260209T130000
DTEND;TZID=Europe/Madrid:20260209T140000
DESCRIPTION:Lentils stew\nFrench omelette & salad [Allergens: eggs]\nYogurt
  [Allergens: milk]
SUMMARY:Vegetarian - Lentils stew\, French omelette & salad\, Yogurt
END:VEVENT
BEGIN:VEVENT
DTSTAMP:20260423T000832Z
UID:e31879cd22d3bf111ce00213315644c8
DTSTART;TZID=Europe/Madrid:20260210T130000
DTEND;TZID=Europe/Madrid:20260210T140000
DESCRIPTION:Pasta with pesto sauce [Allergens: gluten]\nBaked tofu & salad\
 nFruit
SUMMARY:Vegetarian - Pasta with pesto sauce\, Baked tofu & salad\, Fruit
END:VEVENT
BEGIN:VEVENT
DTSTAMP:20260423T000832Z
UID:21f19acdda6e59310ae4f4fbc4df2637
DTSTART;TZID=Europe/Madrid:20260211T130000
DTEND;TZID=Europe/Madrid:20260211T140000
DESCRIPTION:Broccoli with paprika oil\nLentil meatballs stew\nFruit
SUMMARY:Vegetarian - Broccoli with paprika oil\, Lentil meatballs stew\, Fr
 uit
END:VEVENT
BEGIN:VEVENT
DTSTAMP:20260423T000832Z
UID:3d6950e870e28d466dd3a1a2ef4502fd
DTSTART;TZID=Europe/Madrid:20260212T130000
DTEND;TZID=Europe/Madrid:20260212T140000
DESCRIPTION:Rice with homemade tomato sauce\nFried seitan fillet with salad
  [Allergens: gluten]\nFruit
SUMMARY:Vegetarian - Rice with homemade tomato sauce\, Fried seitan fillet 
 with salad\, Fruit
END:VEVENT
BEGIN:VEVENT
DTSTAMP:20260423T000832Z
UID:e725887b7f51a9e6d617f85492bdf265
DTSTART;TZID=Europe/Madrid:20260213T130000
DTEND;TZID=Europe/Madrid:20260213T140000
DESCRIPTION:Vegetables soup\nLemon tofu with baked potatoes\nFruit
SUMMARY:Vegetarian - Vegetables soup\, Lemon tofu with baked potatoes\, Fru
 it
END:VEVENT
BEGIN:VEVENT
DTSTAMP:20260423T000832Z
UID:08717ee569660086eccd3f1863134c9b
DTSTART;TZID=Europe/Madrid:20260223T130000
DTEND;TZID=Europe/Madrid:20260223T140000
DESCRIPTION:Lentils stew\nPotato omelette & salad [Allergens: eggs]\nYogurt
  [Allergens: milk]
SUMMARY:Vegetarian - Lentils stew\, Potato omelette & salad\, Yogurt
END:VEVENT
BEGIN:VEVENT
DTSTAMP:20260423T000832Z
UID:cccd1f8892c386c9d8b422c886328e16
DTSTART;TZID=Europe/Madrid:20260224T130000
DTEND;TZID=Europe/Madrid:20260224T140000
DESCRIPTION:Noodles soup [Allergens: gluten]\nBbq seitan & salad\nFruit
SUMMARY:Vegetarian - Noodles soup\, Bbq seitan & salad\, Fruit
END:VEVENT
BEGIN:VEVENT
DTSTAMP:20260423T000832Z
UID:72954c2a2e79e1388d4cec2127aaaaf8
DTSTART;TZID=Europe/Madrid:20260225T130000
DTEND;TZID=Europe/Madrid:20260225T140000
DESCRIPTION:Green beans with tomato sauce\nVegetable fideua [Allergens: glu
 ten]\nFruit
SUMMARY:Vegetarian - Green beans with tomato sauce\, Vegetable fideua\, Fru
 it
END:VEVENT
BEGIN:VEVENT
DTSTAMP:20260423T000832Z
UID:40166e321606b9ce77acb59c04f01d01
DTSTART;TZID=Europe/Madrid:20260226T130000
DTEND;TZID=Europe/Madrid:20260226T140000
DESCRIPTION:Carrot soup - INTERNATIONAL DAY OF UNITED KINGDOM\nVegetarian c
 ottage pie [Allergens: milk]\nFruit
SUMMARY:Vegetarian - Carrot soup\, Vegetarian cottage pie\, Fruit
END:VEVENT
BEGIN:VEVENT
DTSTAMP:20260423T000832Z
UID:2c6377dbc29b7ecffa364f2413a446a0
DTSTART;TZID=Europe/Madrid:20260227T130000
DTEND;TZID=Europe/Madrid:20260227T140000
DESCRIPTION:Wok rice with vegetables and soya [Allergens: soya]\nTofu and m
 ushroom stew\nFruit
SUMMARY:Vegetarian - Wok rice with vegetables and soya\, Tofu and mushroom 
 stew\, Fruit
END:VEVENT
END:VCALENDAR
