BEGIN:VCALENDAR
VERSION:2.0
PRODID:icalendar-ruby
CALSCALE:GREGORIAN
BEGIN:VEVENT
DTSTAMP:20260423T000841Z
UID:386ea68da56c31653db82e0e29c4b7da
DTSTART;TZID=Europe/Madrid:20251201T130000
DTEND;TZID=Europe/Madrid:20251201T140000
DESCRIPTION:Tallarines a la napolitana [Allergens: CEREALS WITH GLUTEN]\nTo
 rtilla francesa con ensalada [Allergens: EGGS]\nYogur [Allergens: MILK]
SUMMARY:Menu: BASAL - Tallarines a la napolitana\, Tortilla francesa con en
 salada\, Yogur
END:VEVENT
BEGIN:VEVENT
DTSTAMP:20260423T000841Z
UID:0bb0b7589c11137653a1d2d28a253228
DTSTART;TZID=Europe/Madrid:20251202T130000
DTEND;TZID=Europe/Madrid:20251202T140000
DESCRIPTION:Guiso de alubias con calabaza\nPollo al ajillo con ensalada\nFr
 uta
SUMMARY:Menu: BASAL - Guiso de alubias con calabaza\, Pollo al ajillo con e
 nsalada\, Fruta
END:VEVENT
BEGIN:VEVENT
DTSTAMP:20260423T000841Z
UID:0e1da0785023c44b0e25e4a533059b48
DTSTART;TZID=Europe/Madrid:20251203T130000
DTEND;TZID=Europe/Madrid:20251203T140000
DESCRIPTION:Wok de arroz con verduras y soja [Allergens: SOYA]\nMerluza al 
 horno con ensalada [Allergens: FISH]\nYogur [Allergens: MILK]
SUMMARY:Menu: BASAL - Wok de arroz con verduras y soja\, Merluza al horno c
 on ensalada\, Yogur
END:VEVENT
BEGIN:VEVENT
DTSTAMP:20260423T000841Z
UID:00468d69eb7ea6a64d006d0d24be27e1
DTSTART;TZID=Europe/Madrid:20251204T130000
DTEND;TZID=Europe/Madrid:20251204T140000
DESCRIPTION:Brócoli al ajoarriero\nLomo asado en salsa española con cousc
 ous [Allergens: CEREALS WITH GLUTEN]\nFruta
SUMMARY:Menu: BASAL - Brócoli al ajoarriero\, Lomo asado en salsa español
 a con couscous\, Fruta
END:VEVENT
BEGIN:VEVENT
DTSTAMP:20260423T000841Z
UID:fd316362535bc488c8a133d4a0179571
DTSTART;TZID=Europe/Madrid:20251205T130000
DTEND;TZID=Europe/Madrid:20251205T140000
DESCRIPTION:Crema de calabacín\nBacalao con tomate y patata cocida [Allerg
 ens: FISH]\nFruta
SUMMARY:Menu: BASAL - Crema de calabacín\, Bacalao con tomate y patata coc
 ida\, Fruta
END:VEVENT
BEGIN:VEVENT
DTSTAMP:20260423T000841Z
UID:7e8f8be4e216db3576aee9292cd4ae18
DTSTART;TZID=Europe/Madrid:20251209T130000
DTEND;TZID=Europe/Madrid:20251209T140000
DESCRIPTION:Sopa de ave con fideos [Allergens: CEREALS WITH GLUTEN]\nMerluz
 a a la gallega con panaderas [Allergens: FISH]\nYogur [Allergens: MILK]
SUMMARY:Menu: BASAL - Sopa de ave con fideos\, Merluza a la gallega con pan
 aderas\, Yogur
END:VEVENT
BEGIN:VEVENT
DTSTAMP:20260423T000841Z
UID:fe422ce22b8ecfb19085b95ef5a9d314
DTSTART;TZID=Europe/Madrid:20251210T130000
DTEND;TZID=Europe/Madrid:20251210T140000
DESCRIPTION:Arroz tres delicias\nRagout a la jardinera\nFruta
SUMMARY:Menu: BASAL - Arroz tres delicias\, Ragout a la jardinera\, Fruta
END:VEVENT
BEGIN:VEVENT
DTSTAMP:20260423T000841Z
UID:4744fc3e6dc55fd0cfc463d4a8daf2f9
DTSTART;TZID=Europe/Madrid:20251211T130000
DTEND;TZID=Europe/Madrid:20251211T140000
DESCRIPTION:Macarrones con queso [Allergens: CEREALS WITH GLUTEN\, MILK]\nC
 aballa al horno con cebolla y pimientos [Allergens: FISH]\nFruta
SUMMARY:Menu: BASAL - Macarrones con queso\, Caballa al horno con cebolla y
  pimientos\, Fruta
END:VEVENT
BEGIN:VEVENT
DTSTAMP:20260423T000841Z
UID:df5e76b463b1cfcefe5ea82dde555424
DTSTART;TZID=Europe/Madrid:20251212T130000
DTEND;TZID=Europe/Madrid:20251212T140000
DESCRIPTION:Guiso de lentejas\nTortilla de patatas con ensalada [Allergens:
  EGGS]\nFruta
SUMMARY:Menu: BASAL - Guiso de lentejas\, Tortilla de patatas con ensalada\
 , Fruta
END:VEVENT
BEGIN:VEVENT
DTSTAMP:20260423T000841Z
UID:4b9b2169d29ffa9656bafc9905b191a4
DTSTART;TZID=Europe/Madrid:20251215T130000
DTEND;TZID=Europe/Madrid:20251215T140000
DESCRIPTION:Coliflor gratinada [Allergens: MILK]\nMacarrones con boloñesa 
 de soja [Allergens: CEREALS WITH GLUTEN\, SOYA]\nYogur [Allergens: MILK]
SUMMARY:Menu: BASAL - Coliflor gratinada\, Macarrones con boloñesa de soja
 \, Yogur
END:VEVENT
BEGIN:VEVENT
DTSTAMP:20260423T000841Z
UID:bc31dd30e59b1e0475a0f482a5e60815
DTSTART;TZID=Europe/Madrid:20251216T130000
DTEND;TZID=Europe/Madrid:20251216T140000
DESCRIPTION:Crema de puerro y zanahoria\nPaella de marisco [Allergens: CRUS
 TACEAN\, FISH\, SHELLFISH]\nFruta
SUMMARY:Menu: BASAL - Crema de puerro y zanahoria\, Paella de marisco\, Fru
 ta
END:VEVENT
BEGIN:VEVENT
DTSTAMP:20260423T000841Z
UID:0e64fecbabda1e300ae885acc67f9f5c
DTSTART;TZID=Europe/Madrid:20251217T130000
DTEND;TZID=Europe/Madrid:20251217T140000
DESCRIPTION:Chow mein de verduras [Allergens: CEREALS WITH GLUTEN\, SOYA]\n
 Pollo agridulce\nFruta
SUMMARY:Menu: BASAL - Chow mein de verduras\, Pollo agridulce\, Fruta
END:VEVENT
BEGIN:VEVENT
DTSTAMP:20260423T000841Z
UID:01c248f7dfbffd5e2275da75bcc9b279
DTSTART;TZID=Europe/Madrid:20251218T130000
DTEND;TZID=Europe/Madrid:20251218T140000
DESCRIPTION:Potaje de garbanzos con huevo duro [Allergens: EGGS]\nBuñuelos
  de bacalao con ensalada [Allergens: CEREALS WITH GLUTEN\, FISH]\nFruta
SUMMARY:Menu: BASAL - Potaje de garbanzos con huevo duro\, Buñuelos de bac
 alao con ensalada\, Fruta
END:VEVENT
BEGIN:VEVENT
DTSTAMP:20260423T000841Z
UID:2baa6f4c16ce659fdfe3ba9a572deae3
DTSTART;TZID=Europe/Madrid:20251219T130000
DTEND;TZID=Europe/Madrid:20251219T140000
DESCRIPTION:Sopa de navidad [Allergens: CEREALS WITH GLUTEN]\nHamburguesa c
 on patatas fritas\nTurrones
SUMMARY:Menu: BASAL - Sopa de navidad\, Hamburguesa con patatas fritas\, Tu
 rrones
END:VEVENT
END:VCALENDAR
